BEGIN:VCALENDAR
VERSION:2.0
PRODID:< http://www.open2c.de/ >
METHOD:PUBLISH
X-PUBLISHED-TTL:PT12H
BEGIN:VEVENT
CREATED:20260128T063910Z
LAST-MODIFIED:20260415T131314Z
DTSTAMP:20260420T093413Z
DTSTART;VALUE=DATE:20260421
CATEGORIES:Sitzungen
SUMMARY:Sitzung des Bauausschusses
DESCRIPTION:    Nähere Informationen finden Sie im Bürgerinformationssy
	stem unter folgendem Link: https://penzing.ris.kommune-aktiv.de/kalender/d
	e/rathaus/-/-/calendar_show    
LOCATION:Schule Penzing\, Aula\, Fritz-Börner-Str. 12\, 86929 Penzing
UID:ad12a0dbeee9d81f50ee61d439ccc731@7b295847179d2b349cf9f056cd66a0db
END:VEVENT
BEGIN:VEVENT
CREATED:20260107T124427Z
LAST-MODIFIED:20260415T131048Z
DTSTAMP:20260420T093413Z
DTSTART;VALUE=DATE:20260421
CATEGORIES:Sitzungen
SUMMARY:Gemeinderatssitzung
DESCRIPTION:  Nähere Informationen finden Sie im Bürgerinformationssyste
	m unter folgendem Link: https://penzing.ris.kommune-aktiv.de/kalender/de/r
	athaus/-/-/calendar_show  
LOCATION:Schule Penzing\, Aula\, Fritz-Börner-Str. 12\, 86929 Penzing
UID:3f9c6b5cac14240f13da1457e32f47c0@7b295847179d2b349cf9f056cd66a0db
END:VEVENT
END:VCALENDAR